BEGIN:VCALENDAR
VERSION:2.0
PRODID:-//Greater Friendship Baptist Church - ECPv6.13.2.1//NONSGML v1.0//EN
CALSCALE:GREGORIAN
METHOD:PUBLISH
X-ORIGINAL-URL:https://greaterfriendshipbaptist.org
X-WR-CALDESC:Events for Greater Friendship Baptist Church
REFRESH-INTERVAL;VALUE=DURATION:PT1H
X-Robots-Tag:noindex
X-PUBLISHED-TTL:PT1H
BEGIN:VTIMEZONE
TZID:UTC
BEGIN:STANDARD
TZOFFSETFROM:+0000
TZOFFSETTO:+0000
TZNAME:UTC
DTSTART:20170101T000000
END:STANDARD
END:VTIMEZONE
BEGIN:VEVENT
DTSTART;TZID=UTC:20171105T093000
DTEND;TZID=UTC:20171105T223000
DTSTAMP:20260423T183042
CREATED:20161101T145149Z
LAST-MODIFIED:20161101T145149Z
UID:1748-1509874200-1509921000@greaterfriendshipbaptist.org
SUMMARY:Sunday School : 09:30 A.M.
DESCRIPTION:
URL:https://greaterfriendshipbaptist.org/event/sunday-school-0930-a-m-2017-11-05/
LOCATION:Greater Friendship Church\, 903 East 13th Avenue\, Anchorage\, AK\, 99501\, United States
END:VEVENT
BEGIN:VEVENT
DTSTART;TZID=UTC:20171029T093000
DTEND;TZID=UTC:20171029T223000
DTSTAMP:20260423T183042
CREATED:20161101T145149Z
LAST-MODIFIED:20161101T145149Z
UID:1747-1509269400-1509316200@greaterfriendshipbaptist.org
SUMMARY:Sunday School : 09:30 A.M.
DESCRIPTION:
URL:https://greaterfriendshipbaptist.org/event/sunday-school-0930-a-m-2017-10-29/
LOCATION:Greater Friendship Church\, 903 East 13th Avenue\, Anchorage\, AK\, 99501\, United States
END:VEVENT
BEGIN:VEVENT
DTSTART;TZID=UTC:20171022T093000
DTEND;TZID=UTC:20171022T223000
DTSTAMP:20260423T183042
CREATED:20161101T145149Z
LAST-MODIFIED:20161101T145149Z
UID:1746-1508664600-1508711400@greaterfriendshipbaptist.org
SUMMARY:Sunday School : 09:30 A.M.
DESCRIPTION:
URL:https://greaterfriendshipbaptist.org/event/sunday-school-0930-a-m-2017-10-22/
LOCATION:Greater Friendship Church\, 903 East 13th Avenue\, Anchorage\, AK\, 99501\, United States
END:VEVENT
BEGIN:VEVENT
DTSTART;TZID=UTC:20171015T093000
DTEND;TZID=UTC:20171015T223000
DTSTAMP:20260423T183042
CREATED:20161101T145149Z
LAST-MODIFIED:20161101T145149Z
UID:1745-1508059800-1508106600@greaterfriendshipbaptist.org
SUMMARY:Sunday School : 09:30 A.M.
DESCRIPTION:
URL:https://greaterfriendshipbaptist.org/event/sunday-school-0930-a-m-2017-10-15/
LOCATION:Greater Friendship Church\, 903 East 13th Avenue\, Anchorage\, AK\, 99501\, United States
END:VEVENT
BEGIN:VEVENT
DTSTART;TZID=UTC:20171008T093000
DTEND;TZID=UTC:20171008T223000
DTSTAMP:20260423T183042
CREATED:20161101T145149Z
LAST-MODIFIED:20161101T145149Z
UID:1744-1507455000-1507501800@greaterfriendshipbaptist.org
SUMMARY:Sunday School : 09:30 A.M.
DESCRIPTION:
URL:https://greaterfriendshipbaptist.org/event/sunday-school-0930-a-m-2017-10-08/
LOCATION:Greater Friendship Church\, 903 East 13th Avenue\, Anchorage\, AK\, 99501\, United States
END:VEVENT
BEGIN:VEVENT
DTSTART;TZID=UTC:20171001T093000
DTEND;TZID=UTC:20171001T223000
DTSTAMP:20260423T183042
CREATED:20161101T145149Z
LAST-MODIFIED:20161101T145149Z
UID:1743-1506850200-1506897000@greaterfriendshipbaptist.org
SUMMARY:Sunday School : 09:30 A.M.
DESCRIPTION:
URL:https://greaterfriendshipbaptist.org/event/sunday-school-0930-a-m-2017-10-01/
LOCATION:Greater Friendship Church\, 903 East 13th Avenue\, Anchorage\, AK\, 99501\, United States
END:VEVENT
BEGIN:VEVENT
DTSTART;TZID=UTC:20170924T093000
DTEND;TZID=UTC:20170924T223000
DTSTAMP:20260423T183042
CREATED:20161101T145149Z
LAST-MODIFIED:20161101T145149Z
UID:1742-1506245400-1506292200@greaterfriendshipbaptist.org
SUMMARY:Sunday School : 09:30 A.M.
DESCRIPTION:
URL:https://greaterfriendshipbaptist.org/event/sunday-school-0930-a-m-2017-09-24/
LOCATION:Greater Friendship Church\, 903 East 13th Avenue\, Anchorage\, AK\, 99501\, United States
END:VEVENT
BEGIN:VEVENT
DTSTART;TZID=UTC:20170917T093000
DTEND;TZID=UTC:20170917T223000
DTSTAMP:20260423T183042
CREATED:20161101T145149Z
LAST-MODIFIED:20161101T145149Z
UID:1741-1505640600-1505687400@greaterfriendshipbaptist.org
SUMMARY:Sunday School : 09:30 A.M.
DESCRIPTION:
URL:https://greaterfriendshipbaptist.org/event/sunday-school-0930-a-m-2017-09-17/
LOCATION:Greater Friendship Church\, 903 East 13th Avenue\, Anchorage\, AK\, 99501\, United States
END:VEVENT
BEGIN:VEVENT
DTSTART;TZID=UTC:20170910T093000
DTEND;TZID=UTC:20170910T223000
DTSTAMP:20260423T183042
CREATED:20161101T145149Z
LAST-MODIFIED:20161101T145149Z
UID:1740-1505035800-1505082600@greaterfriendshipbaptist.org
SUMMARY:Sunday School : 09:30 A.M.
DESCRIPTION:
URL:https://greaterfriendshipbaptist.org/event/sunday-school-0930-a-m-2017-09-10/
LOCATION:Greater Friendship Church\, 903 East 13th Avenue\, Anchorage\, AK\, 99501\, United States
END:VEVENT
BEGIN:VEVENT
DTSTART;TZID=UTC:20170903T093000
DTEND;TZID=UTC:20170903T223000
DTSTAMP:20260423T183042
CREATED:20161101T145149Z
LAST-MODIFIED:20161101T145149Z
UID:1739-1504431000-1504477800@greaterfriendshipbaptist.org
SUMMARY:Sunday School : 09:30 A.M.
DESCRIPTION:
URL:https://greaterfriendshipbaptist.org/event/sunday-school-0930-a-m-2017-09-03/
LOCATION:Greater Friendship Church\, 903 East 13th Avenue\, Anchorage\, AK\, 99501\, United States
END:VEVENT
BEGIN:VEVENT
DTSTART;TZID=UTC:20170827T093000
DTEND;TZID=UTC:20170827T223000
DTSTAMP:20260423T183042
CREATED:20161101T145149Z
LAST-MODIFIED:20161101T145149Z
UID:1738-1503826200-1503873000@greaterfriendshipbaptist.org
SUMMARY:Sunday School : 09:30 A.M.
DESCRIPTION:
URL:https://greaterfriendshipbaptist.org/event/sunday-school-0930-a-m-2017-08-27/
LOCATION:Greater Friendship Church\, 903 East 13th Avenue\, Anchorage\, AK\, 99501\, United States
END:VEVENT
BEGIN:VEVENT
DTSTART;TZID=UTC:20170820T093000
DTEND;TZID=UTC:20170820T223000
DTSTAMP:20260423T183042
CREATED:20161101T145149Z
LAST-MODIFIED:20161101T145149Z
UID:1737-1503221400-1503268200@greaterfriendshipbaptist.org
SUMMARY:Sunday School : 09:30 A.M.
DESCRIPTION:
URL:https://greaterfriendshipbaptist.org/event/sunday-school-0930-a-m-2017-08-20/
LOCATION:Greater Friendship Church\, 903 East 13th Avenue\, Anchorage\, AK\, 99501\, United States
END:VEVENT
BEGIN:VEVENT
DTSTART;TZID=UTC:20170813T093000
DTEND;TZID=UTC:20170813T223000
DTSTAMP:20260423T183042
CREATED:20161101T145149Z
LAST-MODIFIED:20161101T145149Z
UID:1736-1502616600-1502663400@greaterfriendshipbaptist.org
SUMMARY:Sunday School : 09:30 A.M.
DESCRIPTION:
URL:https://greaterfriendshipbaptist.org/event/sunday-school-0930-a-m-2017-08-13/
LOCATION:Greater Friendship Church\, 903 East 13th Avenue\, Anchorage\, AK\, 99501\, United States
END:VEVENT
BEGIN:VEVENT
DTSTART;TZID=UTC:20170806T093000
DTEND;TZID=UTC:20170806T223000
DTSTAMP:20260423T183042
CREATED:20161101T145149Z
LAST-MODIFIED:20161101T145149Z
UID:1735-1502011800-1502058600@greaterfriendshipbaptist.org
SUMMARY:Sunday School : 09:30 A.M.
DESCRIPTION:
URL:https://greaterfriendshipbaptist.org/event/sunday-school-0930-a-m-2017-08-06/
LOCATION:Greater Friendship Church\, 903 East 13th Avenue\, Anchorage\, AK\, 99501\, United States
END:VEVENT
BEGIN:VEVENT
DTSTART;TZID=UTC:20170730T093000
DTEND;TZID=UTC:20170730T223000
DTSTAMP:20260423T183042
CREATED:20161101T145149Z
LAST-MODIFIED:20161101T145149Z
UID:1734-1501407000-1501453800@greaterfriendshipbaptist.org
SUMMARY:Sunday School : 09:30 A.M.
DESCRIPTION:
URL:https://greaterfriendshipbaptist.org/event/sunday-school-0930-a-m-2017-07-30/
LOCATION:Greater Friendship Church\, 903 East 13th Avenue\, Anchorage\, AK\, 99501\, United States
END:VEVENT
BEGIN:VEVENT
DTSTART;TZID=UTC:20170723T093000
DTEND;TZID=UTC:20170723T223000
DTSTAMP:20260423T183042
CREATED:20161101T145149Z
LAST-MODIFIED:20161101T145149Z
UID:1733-1500802200-1500849000@greaterfriendshipbaptist.org
SUMMARY:Sunday School : 09:30 A.M.
DESCRIPTION:
URL:https://greaterfriendshipbaptist.org/event/sunday-school-0930-a-m-2017-07-23/
LOCATION:Greater Friendship Church\, 903 East 13th Avenue\, Anchorage\, AK\, 99501\, United States
END:VEVENT
BEGIN:VEVENT
DTSTART;TZID=UTC:20170716T093000
DTEND;TZID=UTC:20170716T223000
DTSTAMP:20260423T183042
CREATED:20161101T145149Z
LAST-MODIFIED:20161101T145149Z
UID:1732-1500197400-1500244200@greaterfriendshipbaptist.org
SUMMARY:Sunday School : 09:30 A.M.
DESCRIPTION:
URL:https://greaterfriendshipbaptist.org/event/sunday-school-0930-a-m-2017-07-16/
LOCATION:Greater Friendship Church\, 903 East 13th Avenue\, Anchorage\, AK\, 99501\, United States
END:VEVENT
BEGIN:VEVENT
DTSTART;TZID=UTC:20170709T093000
DTEND;TZID=UTC:20170709T223000
DTSTAMP:20260423T183042
CREATED:20161101T145149Z
LAST-MODIFIED:20161101T145149Z
UID:1731-1499592600-1499639400@greaterfriendshipbaptist.org
SUMMARY:Sunday School : 09:30 A.M.
DESCRIPTION:
URL:https://greaterfriendshipbaptist.org/event/sunday-school-0930-a-m-2017-07-09/
LOCATION:Greater Friendship Church\, 903 East 13th Avenue\, Anchorage\, AK\, 99501\, United States
END:VEVENT
BEGIN:VEVENT
DTSTART;TZID=UTC:20170702T093000
DTEND;TZID=UTC:20170702T223000
DTSTAMP:20260423T183042
CREATED:20161101T145149Z
LAST-MODIFIED:20161101T145149Z
UID:1730-1498987800-1499034600@greaterfriendshipbaptist.org
SUMMARY:Sunday School : 09:30 A.M.
DESCRIPTION:
URL:https://greaterfriendshipbaptist.org/event/sunday-school-0930-a-m-2017-07-02/
LOCATION:Greater Friendship Church\, 903 East 13th Avenue\, Anchorage\, AK\, 99501\, United States
END:VEVENT
BEGIN:VEVENT
DTSTART;TZID=UTC:20170625T093000
DTEND;TZID=UTC:20170625T223000
DTSTAMP:20260423T183042
CREATED:20161101T145149Z
LAST-MODIFIED:20161101T145149Z
UID:1729-1498383000-1498429800@greaterfriendshipbaptist.org
SUMMARY:Sunday School : 09:30 A.M.
DESCRIPTION:
URL:https://greaterfriendshipbaptist.org/event/sunday-school-0930-a-m-2017-06-25/
LOCATION:Greater Friendship Church\, 903 East 13th Avenue\, Anchorage\, AK\, 99501\, United States
END:VEVENT
BEGIN:VEVENT
DTSTART;TZID=UTC:20170618T093000
DTEND;TZID=UTC:20170618T223000
DTSTAMP:20260423T183042
CREATED:20161101T145149Z
LAST-MODIFIED:20161101T145149Z
UID:1728-1497778200-1497825000@greaterfriendshipbaptist.org
SUMMARY:Sunday School : 09:30 A.M.
DESCRIPTION:
URL:https://greaterfriendshipbaptist.org/event/sunday-school-0930-a-m-2017-06-18/
LOCATION:Greater Friendship Church\, 903 East 13th Avenue\, Anchorage\, AK\, 99501\, United States
END:VEVENT
BEGIN:VEVENT
DTSTART;TZID=UTC:20170611T093000
DTEND;TZID=UTC:20170611T223000
DTSTAMP:20260423T183042
CREATED:20161101T145149Z
LAST-MODIFIED:20161101T145149Z
UID:1727-1497173400-1497220200@greaterfriendshipbaptist.org
SUMMARY:Sunday School : 09:30 A.M.
DESCRIPTION:
URL:https://greaterfriendshipbaptist.org/event/sunday-school-0930-a-m-2017-06-11/
LOCATION:Greater Friendship Church\, 903 East 13th Avenue\, Anchorage\, AK\, 99501\, United States
END:VEVENT
BEGIN:VEVENT
DTSTART;TZID=UTC:20170604T093000
DTEND;TZID=UTC:20170604T223000
DTSTAMP:20260423T183042
CREATED:20161101T145149Z
LAST-MODIFIED:20161101T145149Z
UID:1726-1496568600-1496615400@greaterfriendshipbaptist.org
SUMMARY:Sunday School : 09:30 A.M.
DESCRIPTION:
URL:https://greaterfriendshipbaptist.org/event/sunday-school-0930-a-m-2017-06-04/
LOCATION:Greater Friendship Church\, 903 East 13th Avenue\, Anchorage\, AK\, 99501\, United States
END:VEVENT
BEGIN:VEVENT
DTSTART;TZID=UTC:20170528T093000
DTEND;TZID=UTC:20170528T223000
DTSTAMP:20260423T183042
CREATED:20161101T145149Z
LAST-MODIFIED:20161101T145149Z
UID:1725-1495963800-1496010600@greaterfriendshipbaptist.org
SUMMARY:Sunday School : 09:30 A.M.
DESCRIPTION:
URL:https://greaterfriendshipbaptist.org/event/sunday-school-0930-a-m-2017-05-28/
LOCATION:Greater Friendship Church\, 903 East 13th Avenue\, Anchorage\, AK\, 99501\, United States
END:VEVENT
BEGIN:VEVENT
DTSTART;TZID=UTC:20170521T093000
DTEND;TZID=UTC:20170521T223000
DTSTAMP:20260423T183042
CREATED:20161101T145149Z
LAST-MODIFIED:20161101T145149Z
UID:1724-1495359000-1495405800@greaterfriendshipbaptist.org
SUMMARY:Sunday School : 09:30 A.M.
DESCRIPTION:
URL:https://greaterfriendshipbaptist.org/event/sunday-school-0930-a-m-2017-05-21/
LOCATION:Greater Friendship Church\, 903 East 13th Avenue\, Anchorage\, AK\, 99501\, United States
END:VEVENT
BEGIN:VEVENT
DTSTART;TZID=UTC:20170514T093000
DTEND;TZID=UTC:20170514T223000
DTSTAMP:20260423T183042
CREATED:20161101T145149Z
LAST-MODIFIED:20161101T145149Z
UID:1723-1494754200-1494801000@greaterfriendshipbaptist.org
SUMMARY:Sunday School : 09:30 A.M.
DESCRIPTION:
URL:https://greaterfriendshipbaptist.org/event/sunday-school-0930-a-m-2017-05-14/
LOCATION:Greater Friendship Church\, 903 East 13th Avenue\, Anchorage\, AK\, 99501\, United States
END:VEVENT
BEGIN:VEVENT
DTSTART;TZID=UTC:20170507T093000
DTEND;TZID=UTC:20170507T223000
DTSTAMP:20260423T183042
CREATED:20161101T145149Z
LAST-MODIFIED:20161101T145149Z
UID:1722-1494149400-1494196200@greaterfriendshipbaptist.org
SUMMARY:Sunday School : 09:30 A.M.
DESCRIPTION:
URL:https://greaterfriendshipbaptist.org/event/sunday-school-0930-a-m-2017-05-07/
LOCATION:Greater Friendship Church\, 903 East 13th Avenue\, Anchorage\, AK\, 99501\, United States
END:VEVENT
BEGIN:VEVENT
DTSTART;TZID=UTC:20170430T093000
DTEND;TZID=UTC:20170430T223000
DTSTAMP:20260423T183042
CREATED:20161101T145149Z
LAST-MODIFIED:20161101T145149Z
UID:1721-1493544600-1493591400@greaterfriendshipbaptist.org
SUMMARY:Sunday School : 09:30 A.M.
DESCRIPTION:
URL:https://greaterfriendshipbaptist.org/event/sunday-school-0930-a-m-2017-04-30/
LOCATION:Greater Friendship Church\, 903 East 13th Avenue\, Anchorage\, AK\, 99501\, United States
END:VEVENT
BEGIN:VEVENT
DTSTART;TZID=UTC:20170423T093000
DTEND;TZID=UTC:20170423T223000
DTSTAMP:20260423T183042
CREATED:20161101T145149Z
LAST-MODIFIED:20161101T145149Z
UID:1720-1492939800-1492986600@greaterfriendshipbaptist.org
SUMMARY:Sunday School : 09:30 A.M.
DESCRIPTION:
URL:https://greaterfriendshipbaptist.org/event/sunday-school-0930-a-m-2017-04-23/
LOCATION:Greater Friendship Church\, 903 East 13th Avenue\, Anchorage\, AK\, 99501\, United States
END:VEVENT
BEGIN:VEVENT
DTSTART;TZID=UTC:20170416T093000
DTEND;TZID=UTC:20170416T223000
DTSTAMP:20260423T183042
CREATED:20161101T145149Z
LAST-MODIFIED:20161101T145149Z
UID:1719-1492335000-1492381800@greaterfriendshipbaptist.org
SUMMARY:Sunday School : 09:30 A.M.
DESCRIPTION:
URL:https://greaterfriendshipbaptist.org/event/sunday-school-0930-a-m-2017-04-16/
LOCATION:Greater Friendship Church\, 903 East 13th Avenue\, Anchorage\, AK\, 99501\, United States
END:VEVENT
END:VCALENDAR