BEGIN:VCALENDAR
VERSION:2.0
PRODID:-//Greater Friendship Baptist Church - ECPv6.13.2.1//NONSGML v1.0//EN
CALSCALE:GREGORIAN
METHOD:PUBLISH
X-WR-CALNAME:Greater Friendship Baptist Church
X-ORIGINAL-URL:https://greaterfriendshipbaptist.org
X-WR-CALDESC:Events for Greater Friendship Baptist Church
REFRESH-INTERVAL;VALUE=DURATION:PT1H
X-Robots-Tag:noindex
X-PUBLISHED-TTL:PT1H
BEGIN:VTIMEZONE
TZID:UTC
BEGIN:STANDARD
TZOFFSETFROM:+0000
TZOFFSETTO:+0000
TZNAME:UTC
DTSTART:20170101T000000
END:STANDARD
END:VTIMEZONE
BEGIN:VEVENT
DTSTART;TZID=UTC:20180603T093000
DTEND;TZID=UTC:20180603T223000
DTSTAMP:20260423T142928
CREATED:20161101T145149Z
LAST-MODIFIED:20161101T145149Z
UID:1778-1528018200-1528065000@greaterfriendshipbaptist.org
SUMMARY:Sunday School : 09:30 A.M.
DESCRIPTION:
URL:https://greaterfriendshipbaptist.org/event/sunday-school-0930-a-m-2018-06-03/
LOCATION:Greater Friendship Church\, 903 East 13th Avenue\, Anchorage\, AK\, 99501\, United States
END:VEVENT
BEGIN:VEVENT
DTSTART;TZID=UTC:20180527T093000
DTEND;TZID=UTC:20180527T223000
DTSTAMP:20260423T142928
CREATED:20161101T145149Z
LAST-MODIFIED:20161101T145149Z
UID:1777-1527413400-1527460200@greaterfriendshipbaptist.org
SUMMARY:Sunday School : 09:30 A.M.
DESCRIPTION:
URL:https://greaterfriendshipbaptist.org/event/sunday-school-0930-a-m-2018-05-27/
LOCATION:Greater Friendship Church\, 903 East 13th Avenue\, Anchorage\, AK\, 99501\, United States
END:VEVENT
BEGIN:VEVENT
DTSTART;TZID=UTC:20180520T093000
DTEND;TZID=UTC:20180520T223000
DTSTAMP:20260423T142928
CREATED:20161101T145149Z
LAST-MODIFIED:20161101T145149Z
UID:1776-1526808600-1526855400@greaterfriendshipbaptist.org
SUMMARY:Sunday School : 09:30 A.M.
DESCRIPTION:
URL:https://greaterfriendshipbaptist.org/event/sunday-school-0930-a-m-2018-05-20/
LOCATION:Greater Friendship Church\, 903 East 13th Avenue\, Anchorage\, AK\, 99501\, United States
END:VEVENT
BEGIN:VEVENT
DTSTART;TZID=UTC:20180513T093000
DTEND;TZID=UTC:20180513T223000
DTSTAMP:20260423T142928
CREATED:20161101T145149Z
LAST-MODIFIED:20161101T145149Z
UID:1775-1526203800-1526250600@greaterfriendshipbaptist.org
SUMMARY:Sunday School : 09:30 A.M.
DESCRIPTION:
URL:https://greaterfriendshipbaptist.org/event/sunday-school-0930-a-m-2018-05-13/
LOCATION:Greater Friendship Church\, 903 East 13th Avenue\, Anchorage\, AK\, 99501\, United States
END:VEVENT
BEGIN:VEVENT
DTSTART;TZID=UTC:20180506T093000
DTEND;TZID=UTC:20180506T223000
DTSTAMP:20260423T142928
CREATED:20161101T145149Z
LAST-MODIFIED:20161101T145149Z
UID:1774-1525599000-1525645800@greaterfriendshipbaptist.org
SUMMARY:Sunday School : 09:30 A.M.
DESCRIPTION:
URL:https://greaterfriendshipbaptist.org/event/sunday-school-0930-a-m-2018-05-06/
LOCATION:Greater Friendship Church\, 903 East 13th Avenue\, Anchorage\, AK\, 99501\, United States
END:VEVENT
BEGIN:VEVENT
DTSTART;TZID=UTC:20180429T093000
DTEND;TZID=UTC:20180429T223000
DTSTAMP:20260423T142928
CREATED:20161101T145149Z
LAST-MODIFIED:20161101T145149Z
UID:1773-1524994200-1525041000@greaterfriendshipbaptist.org
SUMMARY:Sunday School : 09:30 A.M.
DESCRIPTION:
URL:https://greaterfriendshipbaptist.org/event/sunday-school-0930-a-m-2018-04-29/
LOCATION:Greater Friendship Church\, 903 East 13th Avenue\, Anchorage\, AK\, 99501\, United States
END:VEVENT
BEGIN:VEVENT
DTSTART;TZID=UTC:20180422T093000
DTEND;TZID=UTC:20180422T223000
DTSTAMP:20260423T142928
CREATED:20161101T145149Z
LAST-MODIFIED:20161101T145149Z
UID:1772-1524389400-1524436200@greaterfriendshipbaptist.org
SUMMARY:Sunday School : 09:30 A.M.
DESCRIPTION:
URL:https://greaterfriendshipbaptist.org/event/sunday-school-0930-a-m-2018-04-22/
LOCATION:Greater Friendship Church\, 903 East 13th Avenue\, Anchorage\, AK\, 99501\, United States
END:VEVENT
BEGIN:VEVENT
DTSTART;TZID=UTC:20180415T093000
DTEND;TZID=UTC:20180415T223000
DTSTAMP:20260423T142928
CREATED:20161101T145149Z
LAST-MODIFIED:20161101T145149Z
UID:1771-1523784600-1523831400@greaterfriendshipbaptist.org
SUMMARY:Sunday School : 09:30 A.M.
DESCRIPTION:
URL:https://greaterfriendshipbaptist.org/event/sunday-school-0930-a-m-2018-04-15/
LOCATION:Greater Friendship Church\, 903 East 13th Avenue\, Anchorage\, AK\, 99501\, United States
END:VEVENT
BEGIN:VEVENT
DTSTART;TZID=UTC:20180408T093000
DTEND;TZID=UTC:20180408T223000
DTSTAMP:20260423T142928
CREATED:20161101T145149Z
LAST-MODIFIED:20161101T145149Z
UID:1770-1523179800-1523226600@greaterfriendshipbaptist.org
SUMMARY:Sunday School : 09:30 A.M.
DESCRIPTION:
URL:https://greaterfriendshipbaptist.org/event/sunday-school-0930-a-m-2018-04-08/
LOCATION:Greater Friendship Church\, 903 East 13th Avenue\, Anchorage\, AK\, 99501\, United States
END:VEVENT
BEGIN:VEVENT
DTSTART;TZID=UTC:20180401T093000
DTEND;TZID=UTC:20180401T223000
DTSTAMP:20260423T142928
CREATED:20161101T145149Z
LAST-MODIFIED:20161101T145149Z
UID:1769-1522575000-1522621800@greaterfriendshipbaptist.org
SUMMARY:Sunday School : 09:30 A.M.
DESCRIPTION:
URL:https://greaterfriendshipbaptist.org/event/sunday-school-0930-a-m-2018-04-01/
LOCATION:Greater Friendship Church\, 903 East 13th Avenue\, Anchorage\, AK\, 99501\, United States
END:VEVENT
BEGIN:VEVENT
DTSTART;TZID=UTC:20180325T093000
DTEND;TZID=UTC:20180325T223000
DTSTAMP:20260423T142928
CREATED:20161101T145149Z
LAST-MODIFIED:20161101T145149Z
UID:1768-1521970200-1522017000@greaterfriendshipbaptist.org
SUMMARY:Sunday School : 09:30 A.M.
DESCRIPTION:
URL:https://greaterfriendshipbaptist.org/event/sunday-school-0930-a-m-2018-03-25/
LOCATION:Greater Friendship Church\, 903 East 13th Avenue\, Anchorage\, AK\, 99501\, United States
END:VEVENT
BEGIN:VEVENT
DTSTART;TZID=UTC:20180318T093000
DTEND;TZID=UTC:20180318T223000
DTSTAMP:20260423T142928
CREATED:20161101T145149Z
LAST-MODIFIED:20161101T145149Z
UID:1767-1521365400-1521412200@greaterfriendshipbaptist.org
SUMMARY:Sunday School : 09:30 A.M.
DESCRIPTION:
URL:https://greaterfriendshipbaptist.org/event/sunday-school-0930-a-m-2018-03-18/
LOCATION:Greater Friendship Church\, 903 East 13th Avenue\, Anchorage\, AK\, 99501\, United States
END:VEVENT
BEGIN:VEVENT
DTSTART;TZID=UTC:20180311T093000
DTEND;TZID=UTC:20180311T223000
DTSTAMP:20260423T142928
CREATED:20161101T145149Z
LAST-MODIFIED:20161101T145149Z
UID:1766-1520760600-1520807400@greaterfriendshipbaptist.org
SUMMARY:Sunday School : 09:30 A.M.
DESCRIPTION:
URL:https://greaterfriendshipbaptist.org/event/sunday-school-0930-a-m-2018-03-11/
LOCATION:Greater Friendship Church\, 903 East 13th Avenue\, Anchorage\, AK\, 99501\, United States
END:VEVENT
BEGIN:VEVENT
DTSTART;TZID=UTC:20180304T093000
DTEND;TZID=UTC:20180304T223000
DTSTAMP:20260423T142928
CREATED:20161101T145149Z
LAST-MODIFIED:20161101T145149Z
UID:1765-1520155800-1520202600@greaterfriendshipbaptist.org
SUMMARY:Sunday School : 09:30 A.M.
DESCRIPTION:
URL:https://greaterfriendshipbaptist.org/event/sunday-school-0930-a-m-2018-03-04/
LOCATION:Greater Friendship Church\, 903 East 13th Avenue\, Anchorage\, AK\, 99501\, United States
END:VEVENT
BEGIN:VEVENT
DTSTART;TZID=UTC:20180225T093000
DTEND;TZID=UTC:20180225T223000
DTSTAMP:20260423T142928
CREATED:20161101T145149Z
LAST-MODIFIED:20161101T145149Z
UID:1764-1519551000-1519597800@greaterfriendshipbaptist.org
SUMMARY:Sunday School : 09:30 A.M.
DESCRIPTION:
URL:https://greaterfriendshipbaptist.org/event/sunday-school-0930-a-m-2018-02-25/
LOCATION:Greater Friendship Church\, 903 East 13th Avenue\, Anchorage\, AK\, 99501\, United States
END:VEVENT
BEGIN:VEVENT
DTSTART;TZID=UTC:20180218T093000
DTEND;TZID=UTC:20180218T223000
DTSTAMP:20260423T142928
CREATED:20161101T145149Z
LAST-MODIFIED:20161101T145149Z
UID:1763-1518946200-1518993000@greaterfriendshipbaptist.org
SUMMARY:Sunday School : 09:30 A.M.
DESCRIPTION:
URL:https://greaterfriendshipbaptist.org/event/sunday-school-0930-a-m-2018-02-18/
LOCATION:Greater Friendship Church\, 903 East 13th Avenue\, Anchorage\, AK\, 99501\, United States
END:VEVENT
BEGIN:VEVENT
DTSTART;TZID=UTC:20180211T093000
DTEND;TZID=UTC:20180211T223000
DTSTAMP:20260423T142928
CREATED:20161101T145149Z
LAST-MODIFIED:20161101T145149Z
UID:1762-1518341400-1518388200@greaterfriendshipbaptist.org
SUMMARY:Sunday School : 09:30 A.M.
DESCRIPTION:
URL:https://greaterfriendshipbaptist.org/event/sunday-school-0930-a-m-2018-02-11/
LOCATION:Greater Friendship Church\, 903 East 13th Avenue\, Anchorage\, AK\, 99501\, United States
END:VEVENT
BEGIN:VEVENT
DTSTART;TZID=UTC:20180204T093000
DTEND;TZID=UTC:20180204T223000
DTSTAMP:20260423T142928
CREATED:20161101T145149Z
LAST-MODIFIED:20161101T145149Z
UID:1761-1517736600-1517783400@greaterfriendshipbaptist.org
SUMMARY:Sunday School : 09:30 A.M.
DESCRIPTION:
URL:https://greaterfriendshipbaptist.org/event/sunday-school-0930-a-m-2018-02-04/
LOCATION:Greater Friendship Church\, 903 East 13th Avenue\, Anchorage\, AK\, 99501\, United States
END:VEVENT
BEGIN:VEVENT
DTSTART;TZID=UTC:20180128T093000
DTEND;TZID=UTC:20180128T223000
DTSTAMP:20260423T142928
CREATED:20161101T145149Z
LAST-MODIFIED:20161101T145149Z
UID:1760-1517131800-1517178600@greaterfriendshipbaptist.org
SUMMARY:Sunday School : 09:30 A.M.
DESCRIPTION:
URL:https://greaterfriendshipbaptist.org/event/sunday-school-0930-a-m-2018-01-28/
LOCATION:Greater Friendship Church\, 903 East 13th Avenue\, Anchorage\, AK\, 99501\, United States
END:VEVENT
BEGIN:VEVENT
DTSTART;TZID=UTC:20180121T093000
DTEND;TZID=UTC:20180121T223000
DTSTAMP:20260423T142928
CREATED:20161101T145149Z
LAST-MODIFIED:20161101T145149Z
UID:1759-1516527000-1516573800@greaterfriendshipbaptist.org
SUMMARY:Sunday School : 09:30 A.M.
DESCRIPTION:
URL:https://greaterfriendshipbaptist.org/event/sunday-school-0930-a-m-2018-01-21/
LOCATION:Greater Friendship Church\, 903 East 13th Avenue\, Anchorage\, AK\, 99501\, United States
END:VEVENT
BEGIN:VEVENT
DTSTART;TZID=UTC:20180114T093000
DTEND;TZID=UTC:20180114T223000
DTSTAMP:20260423T142928
CREATED:20161101T145149Z
LAST-MODIFIED:20161101T145149Z
UID:1758-1515922200-1515969000@greaterfriendshipbaptist.org
SUMMARY:Sunday School : 09:30 A.M.
DESCRIPTION:
URL:https://greaterfriendshipbaptist.org/event/sunday-school-0930-a-m-2018-01-14/
LOCATION:Greater Friendship Church\, 903 East 13th Avenue\, Anchorage\, AK\, 99501\, United States
END:VEVENT
BEGIN:VEVENT
DTSTART;TZID=UTC:20180107T093000
DTEND;TZID=UTC:20180107T223000
DTSTAMP:20260423T142928
CREATED:20161101T145149Z
LAST-MODIFIED:20161101T145149Z
UID:1757-1515317400-1515364200@greaterfriendshipbaptist.org
SUMMARY:Sunday School : 09:30 A.M.
DESCRIPTION:
URL:https://greaterfriendshipbaptist.org/event/sunday-school-0930-a-m-2018-01-07/
LOCATION:Greater Friendship Church\, 903 East 13th Avenue\, Anchorage\, AK\, 99501\, United States
END:VEVENT
BEGIN:VEVENT
DTSTART;TZID=UTC:20171231T093000
DTEND;TZID=UTC:20171231T223000
DTSTAMP:20260423T142928
CREATED:20161101T145149Z
LAST-MODIFIED:20161101T145149Z
UID:1756-1514712600-1514759400@greaterfriendshipbaptist.org
SUMMARY:Sunday School : 09:30 A.M.
DESCRIPTION:
URL:https://greaterfriendshipbaptist.org/event/sunday-school-0930-a-m-2017-12-31/
LOCATION:Greater Friendship Church\, 903 East 13th Avenue\, Anchorage\, AK\, 99501\, United States
END:VEVENT
BEGIN:VEVENT
DTSTART;TZID=UTC:20171224T093000
DTEND;TZID=UTC:20171224T223000
DTSTAMP:20260423T142928
CREATED:20161101T145149Z
LAST-MODIFIED:20161101T145149Z
UID:1755-1514107800-1514154600@greaterfriendshipbaptist.org
SUMMARY:Sunday School : 09:30 A.M.
DESCRIPTION:
URL:https://greaterfriendshipbaptist.org/event/sunday-school-0930-a-m-2017-12-24/
LOCATION:Greater Friendship Church\, 903 East 13th Avenue\, Anchorage\, AK\, 99501\, United States
END:VEVENT
BEGIN:VEVENT
DTSTART;TZID=UTC:20171217T093000
DTEND;TZID=UTC:20171217T223000
DTSTAMP:20260423T142928
CREATED:20161101T145149Z
LAST-MODIFIED:20161101T145149Z
UID:1754-1513503000-1513549800@greaterfriendshipbaptist.org
SUMMARY:Sunday School : 09:30 A.M.
DESCRIPTION:
URL:https://greaterfriendshipbaptist.org/event/sunday-school-0930-a-m-2017-12-17/
LOCATION:Greater Friendship Church\, 903 East 13th Avenue\, Anchorage\, AK\, 99501\, United States
END:VEVENT
BEGIN:VEVENT
DTSTART;TZID=UTC:20171210T093000
DTEND;TZID=UTC:20171210T223000
DTSTAMP:20260423T142928
CREATED:20161101T145149Z
LAST-MODIFIED:20161101T145149Z
UID:1753-1512898200-1512945000@greaterfriendshipbaptist.org
SUMMARY:Sunday School : 09:30 A.M.
DESCRIPTION:
URL:https://greaterfriendshipbaptist.org/event/sunday-school-0930-a-m-2017-12-10/
LOCATION:Greater Friendship Church\, 903 East 13th Avenue\, Anchorage\, AK\, 99501\, United States
END:VEVENT
BEGIN:VEVENT
DTSTART;TZID=UTC:20171203T093000
DTEND;TZID=UTC:20171203T223000
DTSTAMP:20260423T142928
CREATED:20161101T145149Z
LAST-MODIFIED:20161101T145149Z
UID:1752-1512293400-1512340200@greaterfriendshipbaptist.org
SUMMARY:Sunday School : 09:30 A.M.
DESCRIPTION:
URL:https://greaterfriendshipbaptist.org/event/sunday-school-0930-a-m-2017-12-03/
LOCATION:Greater Friendship Church\, 903 East 13th Avenue\, Anchorage\, AK\, 99501\, United States
END:VEVENT
BEGIN:VEVENT
DTSTART;TZID=UTC:20171126T093000
DTEND;TZID=UTC:20171126T223000
DTSTAMP:20260423T142928
CREATED:20161101T145149Z
LAST-MODIFIED:20161101T145149Z
UID:1751-1511688600-1511735400@greaterfriendshipbaptist.org
SUMMARY:Sunday School : 09:30 A.M.
DESCRIPTION:
URL:https://greaterfriendshipbaptist.org/event/sunday-school-0930-a-m-2017-11-26/
LOCATION:Greater Friendship Church\, 903 East 13th Avenue\, Anchorage\, AK\, 99501\, United States
END:VEVENT
BEGIN:VEVENT
DTSTART;TZID=UTC:20171119T093000
DTEND;TZID=UTC:20171119T223000
DTSTAMP:20260423T142928
CREATED:20161101T145149Z
LAST-MODIFIED:20161101T145149Z
UID:1750-1511083800-1511130600@greaterfriendshipbaptist.org
SUMMARY:Sunday School : 09:30 A.M.
DESCRIPTION:
URL:https://greaterfriendshipbaptist.org/event/sunday-school-0930-a-m-2017-11-19/
LOCATION:Greater Friendship Church\, 903 East 13th Avenue\, Anchorage\, AK\, 99501\, United States
END:VEVENT
BEGIN:VEVENT
DTSTART;TZID=UTC:20171112T093000
DTEND;TZID=UTC:20171112T223000
DTSTAMP:20260423T142928
CREATED:20161101T145149Z
LAST-MODIFIED:20161101T145149Z
UID:1749-1510479000-1510525800@greaterfriendshipbaptist.org
SUMMARY:Sunday School : 09:30 A.M.
DESCRIPTION:
URL:https://greaterfriendshipbaptist.org/event/sunday-school-0930-a-m-2017-11-12/
LOCATION:Greater Friendship Church\, 903 East 13th Avenue\, Anchorage\, AK\, 99501\, United States
END:VEVENT
END:VCALENDAR