BEGIN:VCALENDAR
VERSION:2.0
PRODID:-//Greater Friendship Baptist Church - ECPv6.13.2.1//NONSGML v1.0//EN
CALSCALE:GREGORIAN
METHOD:PUBLISH
X-ORIGINAL-URL:https://greaterfriendshipbaptist.org
X-WR-CALDESC:Events for Greater Friendship Baptist Church
REFRESH-INTERVAL;VALUE=DURATION:PT1H
X-Robots-Tag:noindex
X-PUBLISHED-TTL:PT1H
BEGIN:VTIMEZONE
TZID:UTC
BEGIN:STANDARD
TZOFFSETFROM:+0000
TZOFFSETTO:+0000
TZNAME:UTC
DTSTART:20160101T000000
END:STANDARD
END:VTIMEZONE
BEGIN:VTIMEZONE
TZID:America/Los_Angeles
BEGIN:DAYLIGHT
TZOFFSETFROM:-0800
TZOFFSETTO:-0700
TZNAME:PDT
DTSTART:20160313T100000
END:DAYLIGHT
BEGIN:STANDARD
TZOFFSETFROM:-0700
TZOFFSETTO:-0800
TZNAME:PST
DTSTART:20161106T090000
END:STANDARD
END:VTIMEZONE
BEGIN:VTIMEZONE
TZID:America/Anchorage
BEGIN:DAYLIGHT
TZOFFSETFROM:-0900
TZOFFSETTO:-0800
TZNAME:AKDT
DTSTART:20160313T110000
END:DAYLIGHT
BEGIN:STANDARD
TZOFFSETFROM:-0800
TZOFFSETTO:-0900
TZNAME:AKST
DTSTART:20161106T100000
END:STANDARD
END:VTIMEZONE
BEGIN:VEVENT
DTSTART;TZID=UTC:20161120T093000
DTEND;TZID=UTC:20161120T223000
DTSTAMP:20260424T012151
CREATED:20161101T145149Z
LAST-MODIFIED:20161101T145149Z
UID:1698-1479634200-1479681000@greaterfriendshipbaptist.org
SUMMARY:Sunday School : 09:30 A.M.
DESCRIPTION:
URL:https://greaterfriendshipbaptist.org/event/sunday-school-0930-a-m-2016-11-20/
LOCATION:Greater Friendship Church\, 903 East 13th Avenue\, Anchorage\, AK\, 99501\, United States
END:VEVENT
BEGIN:VEVENT
DTSTART;TZID=America/Los_Angeles:20161119T120000
DTEND;TZID=America/Los_Angeles:20161119T130000
DTSTAMP:20260424T012151
CREATED:20161117T011933Z
LAST-MODIFIED:20161117T011933Z
UID:2185-1479556800-1479560400@greaterfriendshipbaptist.org
SUMMARY:Homegoing Service for Mother Lottie Grover
DESCRIPTION:Homegoing Service for Mother Lottie Grover\nSaturday\, November 19\, 2016\nViewing 12:00 p.m.-12:45 p.m.\nService 1:00 p.m. \n*Please contact Sis. Cheryl for information for regarding the repast.\nFor those who desire to contribute a side dish\, please bring it to the church by 12 noon. \nContinue to pray for the family. We love you Mother Lottie and family.\nPeace I leave with you; my peace I give you. I do not give to you as the world gives. Do not let your hearts be troubled and do not be afraid. John 14:27
URL:https://greaterfriendshipbaptist.org/event/homegoing-service-for-mother-lottie-grover/
LOCATION:Greater Friendship Church\, 903 East 13th Avenue\, Anchorage\, AK\, 99501\, United States
END:VEVENT
BEGIN:VEVENT
DTSTART;TZID=UTC:20161113T093000
DTEND;TZID=UTC:20161113T223000
DTSTAMP:20260424T012151
CREATED:20161101T145149Z
LAST-MODIFIED:20161101T145149Z
UID:1697-1479029400-1479076200@greaterfriendshipbaptist.org
SUMMARY:Sunday School : 09:30 A.M.
DESCRIPTION:
URL:https://greaterfriendshipbaptist.org/event/sunday-school-0930-a-m-2016-11-13/
LOCATION:Greater Friendship Church\, 903 East 13th Avenue\, Anchorage\, AK\, 99501\, United States
END:VEVENT
BEGIN:VEVENT
DTSTART;TZID=UTC:20161106T093000
DTEND;TZID=UTC:20161106T223000
DTSTAMP:20260424T012151
CREATED:20161101T145149Z
LAST-MODIFIED:20161101T145149Z
UID:1693-1478424600-1478471400@greaterfriendshipbaptist.org
SUMMARY:Sunday School : 09:30 A.M.
DESCRIPTION:
URL:https://greaterfriendshipbaptist.org/event/sunday-school-0930-a-m/
LOCATION:Greater Friendship Church\, 903 East 13th Avenue\, Anchorage\, AK\, 99501\, United States
END:VEVENT
BEGIN:VEVENT
DTSTART;VALUE=DATE:20161106
DTEND;VALUE=DATE:20161107
DTSTAMP:20260424T012151
CREATED:20161107T005216Z
LAST-MODIFIED:20161107T005216Z
UID:1980-1478390400-1478476799@greaterfriendshipbaptist.org
SUMMARY:Pastors Anniversary
DESCRIPTION:
URL:https://greaterfriendshipbaptist.org/event/pastors-anniversary/
LOCATION:Greater Friendship Church\, 903 East 13th Avenue\, Anchorage\, AK\, 99501\, United States
END:VEVENT
BEGIN:VEVENT
DTSTART;TZID=America/Anchorage:20160910T130000
DTEND;TZID=America/Anchorage:20160910T150000
DTSTAMP:20260424T012151
CREATED:20160909T135531Z
LAST-MODIFIED:20160909T135612Z
UID:673-1473512400-1473519600@greaterfriendshipbaptist.org
SUMMARY:Children Choir Practice
DESCRIPTION:
URL:https://greaterfriendshipbaptist.org/event/children-choir/
LOCATION:Greater Friendship Church\, 903 East 13th Avenue\, Anchorage\, AK\, 99501\, United States
END:VEVENT
END:VCALENDAR